BEGIN:VCALENDAR
VERSION:2.0
PRODID:-//Wunderbar Plagwitz - ECPv6.15.20//NONSGML v1.0//EN
CALSCALE:GREGORIAN
METHOD:PUBLISH
X-WR-CALNAME:Wunderbar Plagwitz
X-ORIGINAL-URL:https://wunderbar-plagwitz.de
X-WR-CALDESC:Veranstaltungen für Wunderbar Plagwitz
REFRESH-INTERVAL;VALUE=DURATION:PT1H
X-Robots-Tag:noindex
X-PUBLISHED-TTL:PT1H
BEGIN:VTIMEZONE
TZID:Europe/Berlin
BEGIN:DAYLIGHT
TZOFFSETFROM:+0100
TZOFFSETTO:+0200
TZNAME:CEST
DTSTART:20240331T010000
END:DAYLIGHT
BEGIN:STANDARD
TZOFFSETFROM:+0200
TZOFFSETTO:+0100
TZNAME:CET
DTSTART:20241027T010000
END:STANDARD
BEGIN:DAYLIGHT
TZOFFSETFROM:+0100
TZOFFSETTO:+0200
TZNAME:CEST
DTSTART:20250330T010000
END:DAYLIGHT
BEGIN:STANDARD
TZOFFSETFROM:+0200
TZOFFSETTO:+0100
TZNAME:CET
DTSTART:20251026T010000
END:STANDARD
BEGIN:DAYLIGHT
TZOFFSETFROM:+0100
TZOFFSETTO:+0200
TZNAME:CEST
DTSTART:20260329T010000
END:DAYLIGHT
BEGIN:STANDARD
TZOFFSETFROM:+0200
TZOFFSETTO:+0100
TZNAME:CET
DTSTART:20261025T010000
END:STANDARD
END:VTIMEZONE
BEGIN:VEVENT
DTSTART;TZID=Europe/Berlin:20251201T183000
DTEND;TZID=Europe/Berlin:20251201T213000
DTSTAMP:20260420T160613
CREATED:20251124T112416Z
LAST-MODIFIED:20251124T112416Z
UID:572-1764613800-1764624600@wunderbar-plagwitz.de
SUMMARY:Unternehmer:innenstammtisch Leipziger Westen - Generationendialog
DESCRIPTION:Generationendialog im Business – Kundengewinnung kennt kein Alter \nOb du gerade als Young Founder den ersten eigenen Kunden akquirierst oder als erfahrener Unternehmer oder Unternehmerin neue Zielgruppen erobern willst – diese Veranstaltung bringt frische Perspektiven und praxisnahe Ideen zusammen – Generationsübergreifend.\nU-Stammtisch trifft Young Founders Network! \nWas dich erwartet:✨ Kundengewinnung der Generationen – von Social Media bis klassischer Vertrieb\n✨ Dialog auf Augenhöhe – lerne\, wie Generationen voneinander lernen und miteinander gewinnen✨ Interaktiver Workshop – Unternehmertum – Generationsübergreifend – ZusammenarbeitSpeaker/Impulsgeber/Workshop:\n* Vorstellung wunderbar\n* Vorstellung Young Founders\, Lucas Haas und Sophia Sowa\n* Aktivpart: Generationendialog am Beispiel von Kundengewinnung\, moderiert von Sabrina Kofahl und Sybille Rühle\n* Netzwerken \nWann:\nMontag\, 01. Dezember 2025\, 18:30 Uhr \nMelde Dich hier an! Deine Teilnahme ist kostenfrei. 
URL:https://wunderbar-plagwitz.de/event/unternehmerinnenstammtisch-leipziger-westen-generationendialog/
ATTACH;FMTTYPE=image/png:https://wunderbar-plagwitz.de/wp-content/uploads/2025/11/Bildschirmfoto-2025-11-24-um-12.20.08.png
END:VEVENT
END:VCALENDAR